BEGIN:VCALENDAR
VERSION:2.0
PRODID:-//Grundschule Flintsbach - ECPv6.15.20//NONSGML v1.0//EN
CALSCALE:GREGORIAN
METHOD:PUBLISH
X-WR-CALNAME:Grundschule Flintsbach
X-ORIGINAL-URL:https://grundschule-flintsbach.de
X-WR-CALDESC:Veranstaltungen für Grundschule Flintsbach
REFRESH-INTERVAL;VALUE=DURATION:PT1H
X-Robots-Tag:noindex
X-PUBLISHED-TTL:PT1H
BEGIN:VTIMEZONE
TZID:Europe/Berlin
BEGIN:DAYLIGHT
TZOFFSETFROM:+0100
TZOFFSETTO:+0200
TZNAME:CEST
DTSTART:20250330T010000
END:DAYLIGHT
BEGIN:STANDARD
TZOFFSETFROM:+0200
TZOFFSETTO:+0100
TZNAME:CET
DTSTART:20251026T010000
END:STANDARD
BEGIN:DAYLIGHT
TZOFFSETFROM:+0100
TZOFFSETTO:+0200
TZNAME:CEST
DTSTART:20260329T010000
END:DAYLIGHT
BEGIN:STANDARD
TZOFFSETFROM:+0200
TZOFFSETTO:+0100
TZNAME:CET
DTSTART:20261025T010000
END:STANDARD
BEGIN:DAYLIGHT
TZOFFSETFROM:+0100
TZOFFSETTO:+0200
TZNAME:CEST
DTSTART:20270328T010000
END:DAYLIGHT
BEGIN:STANDARD
TZOFFSETFROM:+0200
TZOFFSETTO:+0100
TZNAME:CET
DTSTART:20271031T010000
END:STANDARD
END:VTIMEZONE
BEGIN:VEVENT
DTSTART;TZID=Europe/Berlin:20260423T100000
DTEND;TZID=Europe/Berlin:20260423T130000
DTSTAMP:20260423T120751
CREATED:20260309T151951Z
LAST-MODIFIED:20260309T152058Z
UID:1899-1776938400-1776949200@grundschule-flintsbach.de
SUMMARY:Vorlesetag und Bücherflohmarkt
DESCRIPTION:Zuerst wird die Schulfamilie gemeinsam ein Buch in der Aula lesen. Im Anschluss öffnen sich die Pforten des Schulhauses für alle Interessierten zu einem Bücherflohmarkt (ca. 11.30-12.45 Uhr).
URL:https://grundschule-flintsbach.de/kalender/vorlesetag-und-buecherflohmarkt/
END:VEVENT
END:VCALENDAR